BEGIN:VCALENDAR
VERSION:2.0
PRODID:-//wp-events-plugin.com//7.2.3.1//EN
TZID:America/New_York
X-WR-TIMEZONE:America/New_York
BEGIN:VEVENT
UID:2161@spacecoastfreewheelers.com
DTSTART;TZID=America/New_York:20260426T080000
DTEND;TZID=America/New_York:20260426T113000
DTSTAMP:20260425T174558Z
URL:https://spacecoastfreewheelers.com/events/panera-bread-return-windover
 /
SUMMARY:Panera Bread Return Windover
DESCRIPTION:https://ridewithgps.com/routes/53771297\n\nRide Start 8:00\n\nC
 ocoa Village Parking Lot
CATEGORIES:Club Ride,Event
END:VEVENT
BEGIN:VTIMEZONE
TZID:America/New_York
X-LIC-LOCATION:America/New_York
BEGIN:DAYLIGHT
DTSTART:20260308T030000
TZOFFSETFROM:-0500
TZOFFSETTO:-0400
TZNAME:EDT
END:DAYLIGHT
END:VTIMEZONE
END:VCALENDAR